
BEGIN:VCALENDAR
VERSION:2.0
PRODID:-// - ECPv5.12.4//NONSGML v1.0//EN
CALSCALE:GREGORIAN
METHOD:PUBLISH
X-ORIGINAL-URL:https://rockdancecompany.ch
X-WR-CALDESC:évènements pour 
BEGIN:VTIMEZONE
TZID:UTC
BEGIN:STANDARD
TZOFFSETFROM:+0000
TZOFFSETTO:+0000
TZNAME:UTC
DTSTART:20240101T000000
END:STANDARD
END:VTIMEZONE
BEGIN:VEVENT
DTSTART;VALUE=DATE:20240608
DTEND;VALUE=DATE:20240609
DTSTAMP:20260423T163024
CREATED:20240131T091318Z
LAST-MODIFIED:20240131T091318Z
UID:22398-1717804800-1717891199@rockdancecompany.ch
SUMMARY:Championnat Suisse
DESCRIPTION:Concerne : Compétiteurs
URL:https://rockdancecompany.ch/event/championnat-suisse-2/
LOCATION:Neuchatel
CATEGORIES:Compétition
END:VEVENT
END:VCALENDAR