
BEGIN:VCALENDAR
VERSION:2.0
PRODID:-// - ECPv5.12.4//NONSGML v1.0//EN
CALSCALE:GREGORIAN
METHOD:PUBLISH
X-ORIGINAL-URL:https://rockdancecompany.ch
X-WR-CALDESC:évènements pour 
BEGIN:VTIMEZONE
TZID:Europe/Paris
BEGIN:DAYLIGHT
TZOFFSETFROM:+0100
TZOFFSETTO:+0200
TZNAME:CEST
DTSTART:20190331T010000
END:DAYLIGHT
BEGIN:STANDARD
TZOFFSETFROM:+0200
TZOFFSETTO:+0100
TZNAME:CET
DTSTART:20191027T010000
END:STANDARD
END:VTIMEZONE
BEGIN:VEVENT
DTSTART;VALUE=DATE:20190601
DTEND;VALUE=DATE:20190602
DTSTAMP:20260423T235238
CREATED:20180905T105858Z
LAST-MODIFIED:20180905T105858Z
UID:12918-1559347200-1559433599@rockdancecompany.ch
SUMMARY:European Championship Juveniles & Juniors/World Cup MC Contact Style - Zagreb (CRO)
DESCRIPTION:Concerne : Juniors & MC Contact Style
URL:https://rockdancecompany.ch/event/european-ch-rr-juveniles-and-juniors-world-cup-rr-contact-style-zagreb-cro/
LOCATION:Zagreb Croatia\, Zagreb\, Croatie (Nom local : Hrvatska)
CATEGORIES:Compétitions internationales
END:VEVENT
BEGIN:VEVENT
DTSTART;VALUE=DATE:20190601
DTEND;VALUE=DATE:20190602
DTSTAMP:20260423T235238
CREATED:20180905T110008Z
LAST-MODIFIED:20180905T110008Z
UID:12920-1559347200-1559433599@rockdancecompany.ch
SUMMARY:Bern Cup 2019 - Compétition nationale
DESCRIPTION:Concerne : Couples & Formations
URL:https://rockdancecompany.ch/event/bern-cup-2019-competition-nationale/
LOCATION:Berne
CATEGORIES:Compétition
END:VEVENT
END:VCALENDAR