
BEGIN:VCALENDAR
VERSION:2.0
PRODID:-// - ECPv5.12.4//NONSGML v1.0//EN
CALSCALE:GREGORIAN
METHOD:PUBLISH
X-ORIGINAL-URL:https://rockdancecompany.ch
X-WR-CALDESC:évènements pour 
BEGIN:VTIMEZONE
TZID:UTC
BEGIN:STANDARD
TZOFFSETFROM:+0000
TZOFFSETTO:+0000
TZNAME:UTC
DTSTART:20240101T000000
END:STANDARD
END:VTIMEZONE
BEGIN:VEVENT
DTSTART;VALUE=DATE:20240615
DTEND;VALUE=DATE:20240616
DTSTAMP:20260423T163556
CREATED:20240131T091410Z
LAST-MODIFIED:20240131T091410Z
UID:22400-1718409600-1718495999@rockdancecompany.ch
SUMMARY:Compétition Nationale - Boogie Woogie Crazy Cup
DESCRIPTION:Concerne : Boogie Woogie
URL:https://rockdancecompany.ch/event/competition-nationale-boogie-woogie-crazy-cup/
LOCATION:Zurich\, Suisse
CATEGORIES:Compétition
END:VEVENT
END:VCALENDAR